BEGIN:VCALENDAR
VERSION:2.0
PRODID:-//wp-events-plugin.com//7.2.3.1//EN
TZID:America/Chicago
X-WR-TIMEZONE:America/Chicago
BEGIN:VEVENT
UID:5@cityoffayettemo.com
DTSTART;TZID=America/Chicago:20240708T090000
DTEND;TZID=America/Chicago:20240729T114500
DTSTAMP:20240627T182419Z
URL:https://cityoffayettemo.com/events/swimming-lessons-2024/
SUMMARY:Swimming Lessons 2024
DESCRIPTION:
END:VEVENT
BEGIN:VTIMEZONE
TZID:America/Chicago
X-LIC-LOCATION:America/Chicago
BEGIN:DAYLIGHT
DTSTART:20240310T030000
TZOFFSETFROM:-0600
TZOFFSETTO:-0500
TZNAME:CDT
END:DAYLIGHT
END:VTIMEZONE
END:VCALENDAR